BEGIN:VCALENDAR
VERSION:2.0
PRODID:-//WRAP - ECPv6.15.20//NONSGML v1.0//EN
CALSCALE:GREGORIAN
METHOD:PUBLISH
X-WR-CALNAME:WRAP
X-ORIGINAL-URL:https://wrap.org
X-WR-CALDESC:Events for WRAP
REFRESH-INTERVAL;VALUE=DURATION:PT1H
X-Robots-Tag:noindex
X-PUBLISHED-TTL:PT1H
BEGIN:VTIMEZONE
TZID:UTC
BEGIN:STANDARD
TZOFFSETFROM:+0000
TZOFFSETTO:+0000
TZNAME:UTC
DTSTART:20190101T000000
END:STANDARD
END:VTIMEZONE
BEGIN:VTIMEZONE
TZID:America/Halifax
BEGIN:DAYLIGHT
TZOFFSETFROM:-0400
TZOFFSETTO:-0300
TZNAME:ADT
DTSTART:20220313T060000
END:DAYLIGHT
BEGIN:STANDARD
TZOFFSETFROM:-0300
TZOFFSETTO:-0400
TZNAME:AST
DTSTART:20221106T050000
END:STANDARD
BEGIN:DAYLIGHT
TZOFFSETFROM:-0400
TZOFFSETTO:-0300
TZNAME:ADT
DTSTART:20230312T060000
END:DAYLIGHT
BEGIN:STANDARD
TZOFFSETFROM:-0300
TZOFFSETTO:-0400
TZNAME:AST
DTSTART:20231105T050000
END:STANDARD
BEGIN:DAYLIGHT
TZOFFSETFROM:-0400
TZOFFSETTO:-0300
TZNAME:ADT
DTSTART:20240310T060000
END:DAYLIGHT
BEGIN:STANDARD
TZOFFSETFROM:-0300
TZOFFSETTO:-0400
TZNAME:AST
DTSTART:20241103T050000
END:STANDARD
END:VTIMEZONE
BEGIN:VEVENT
DTSTART;VALUE=DATE:20200501
DTEND;VALUE=DATE:20200502
DTSTAMP:20260424T122916
CREATED:20200415T204926Z
LAST-MODIFIED:20200430T024501Z
UID:2633-1588291200-1588377599@wrap.org
SUMMARY:News Conference / Launch of 2020 Cinco de Mayo SoberRide® Campaign
DESCRIPTION:Location: Washington\, D.C.
URL:https://wrap.org/event/news-conference-launch-of-2020-cinco-de-mayo-soberride-campaign/
END:VEVENT
BEGIN:VEVENT
DTSTART;TZID=UTC:20200505T160000
DTEND;TZID=UTC:20200506T160000
DTSTAMP:20260424T122916
CREATED:20200430T023212Z
LAST-MODIFIED:20200430T023212Z
UID:2991-1588694400-1588780800@wrap.org
SUMMARY:WRAP’s 2020 Cinco de Mayo SoberRide® Campaign
DESCRIPTION:*SUSPENDED DUE TO COVID-19 PANDEMIC*
URL:https://wrap.org/event/wraps-2020-cinco-de-mayo-soberride-campaign/
CATEGORIES:Holiday
END:VEVENT
BEGIN:VEVENT
DTSTART;VALUE=DATE:20200507
DTEND;VALUE=DATE:20200508
DTSTAMP:20260424T122916
CREATED:20200415T205329Z
LAST-MODIFIED:20200430T024903Z
UID:2637-1588809600-1588895999@wrap.org
SUMMARY:WRAP Interactive Youth Safety Event at Frederick Douglass High School
DESCRIPTION:*SUSPENDED DUE TO COVID-19 PANDEMIC*
URL:https://wrap.org/event/wrap-interactive-youth-safety-event-at-frederick-douglass-high-school/
LOCATION:Frederick Douglass High School\, 8000 Croom Rd\, Upper Marlboro\, Maryland\, 20772
END:VEVENT
BEGIN:VEVENT
DTSTART;TZID=UTC:20200519T080000
DTEND;TZID=UTC:20200519T093000
DTSTAMP:20260424T122916
CREATED:20200415T205604Z
LAST-MODIFIED:20200430T024257Z
UID:2641-1589875200-1589880600@wrap.org
SUMMARY:WRAP Board of Directors Meeting\, GEICO\, Washington\, D.C.
DESCRIPTION:
URL:https://wrap.org/event/wrap-board-of-directors-meeting-geico-washington-d-c/
LOCATION:GEICO Corporate Office\, 5260 Western Ave\, Chevy Chase\, MD\, 20815
END:VEVENT
BEGIN:VEVENT
DTSTART;VALUE=DATE:20200630
DTEND;VALUE=DATE:20200701
DTSTAMP:20260424T122916
CREATED:20200415T221447Z
LAST-MODIFIED:20200430T024151Z
UID:2647-1593475200-1593561599@wrap.org
SUMMARY:WRAP Summer 2020 Board Function
DESCRIPTION:Details Forthcoming
URL:https://wrap.org/event/wrap-summer-2020-board-function/
END:VEVENT
BEGIN:VEVENT
DTSTART;VALUE=DATE:20200704
DTEND;VALUE=DATE:20200706
DTSTAMP:20260424T122916
CREATED:20200415T221358Z
LAST-MODIFIED:20200430T024748Z
UID:2645-1593820800-1593993599@wrap.org
SUMMARY:2020 Independence Day SoberRide® Campaign
DESCRIPTION:Details Forthcoming
URL:https://wrap.org/event/independence-day-soberride-campaign/
CATEGORIES:Holiday
END:VEVENT
BEGIN:VEVENT
DTSTART;VALUE=DATE:20200801
DTEND;VALUE=DATE:20210101
DTSTAMP:20260424T122916
CREATED:20200430T025210Z
LAST-MODIFIED:20200430T025210Z
UID:3000-1596240000-1609459199@wrap.org
SUMMARY:2020 Virginia Checkpoint Strikeforce Campaign
DESCRIPTION:Details Forthcoming
URL:https://wrap.org/event/2020-virginia-checkpoint-strikeforce-campaign/
END:VEVENT
BEGIN:VEVENT
DTSTART;VALUE=DATE:20200903
DTEND;VALUE=DATE:20200904
DTSTAMP:20260424T122916
CREATED:20200415T221534Z
LAST-MODIFIED:20200430T023809Z
UID:2649-1599091200-1599177599@wrap.org
SUMMARY:WRAP 5th Annual Fundraiser Event
DESCRIPTION:Details Forthcoming
URL:https://wrap.org/event/wrap-5th-annual-fundraiser-event/
END:VEVENT
BEGIN:VEVENT
DTSTART;TZID=UTC:20201117T083000
DTEND;TZID=UTC:20201117T093000
DTSTAMP:20260424T122916
CREATED:20201106T201721Z
LAST-MODIFIED:20201106T201721Z
UID:3251-1605601800-1605605400@wrap.org
SUMMARY:WRAP Board of Directors Meeting (VIRTUAL)
DESCRIPTION:Details Forthcoming
URL:https://wrap.org/event/wrap-board-of-directors-meeting-virtual/
CATEGORIES:Holiday
END:VEVENT
BEGIN:VEVENT
DTSTART;TZID=UTC:20201123T100000
DTEND;TZID=UTC:20201123T110000
DTSTAMP:20260424T122916
CREATED:20201106T201901Z
LAST-MODIFIED:20201106T201901Z
UID:3253-1606125600-1606129200@wrap.org
SUMMARY:WRAP-hosted 17th-annual “Maryland Remembers” ceremony (VIRTUAL)
DESCRIPTION:Details Forthcoming \n(WRAP serves as project director of this event.)
URL:https://wrap.org/event/wrap-hosted-17th-annual-maryland-remembers-ceremony-virtual/
CATEGORIES:Holiday
END:VEVENT
BEGIN:VEVENT
DTSTART;TZID=UTC:20201211T090000
DTEND;TZID=UTC:20201211T100000
DTSTAMP:20260424T122916
CREATED:20200415T221827Z
LAST-MODIFIED:20201106T202551Z
UID:2655-1607677200-1607680800@wrap.org
SUMMARY:WRAP 23rd-annual Law Enforcement Awards and Holiday SoberRide® Kick-Off News Conference (VIRTUAL)
DESCRIPTION:Details Forthcoming
URL:https://wrap.org/event/wrap-law-enforcement-awards-and-holiday-soberride-kick-off-news-conference/
CATEGORIES:Holiday
END:VEVENT
BEGIN:VEVENT
DTSTART;VALUE=DATE:20201231
DTEND;VALUE=DATE:20210102
DTSTAMP:20260424T122916
CREATED:20201106T202103Z
LAST-MODIFIED:20201228T205233Z
UID:3255-1609372800-1609545599@wrap.org
SUMMARY:WRAP’s 2020 New Year’s SoberRide® Campaign December 31\, 2020 - January 1\, 2021
DESCRIPTION:Details Forthcoming
URL:https://wrap.org/event/wraps-2020-holiday-soberride-campaign/
CATEGORIES:Holiday
END:VEVENT
BEGIN:VEVENT
DTSTART;TZID=UTC:20211022T113000
DTEND;TZID=UTC:20211022T140000
DTSTAMP:20260424T122916
CREATED:20210707T170314Z
LAST-MODIFIED:20210707T170314Z
UID:3438-1634902200-1634911200@wrap.org
SUMMARY:39th Annual WRAP Meeting & WRAPPY Awards
DESCRIPTION:
URL:https://wrap.org/event/39th-annual-wrap-meeting-wrappy-awards/
END:VEVENT
BEGIN:VEVENT
DTSTART;TZID=UTC:20211024T110000
DTEND;TZID=UTC:20211024T133000
DTSTAMP:20260424T122916
CREATED:20210707T170727Z
LAST-MODIFIED:20210816T214613Z
UID:3442-1635073200-1635082200@wrap.org
SUMMARY:2021 Maryland Impaired Driving Enforcement Awards
DESCRIPTION:
URL:https://wrap.org/event/2021-maryland-impaired-driving-enforcement-awards/
LOCATION:Grand Hotel in Ocean City\, Maryland
END:VEVENT
BEGIN:VEVENT
DTSTART;TZID=UTC:20211031T200000
DTEND;TZID=UTC:20211101T040000
DTSTAMP:20260424T122916
CREATED:20210707T170531Z
LAST-MODIFIED:20210719T225613Z
UID:3440-1635710400-1635739200@wrap.org
SUMMARY:2021 Halloween SoberRide® Campaign
DESCRIPTION:
URL:https://wrap.org/event/2021-halloween-soberride-campaign/
END:VEVENT
BEGIN:VEVENT
DTSTART;TZID=UTC:20211210T083000
DTEND;TZID=UTC:20211210T103000
DTSTAMP:20260424T122916
CREATED:20210707T171337Z
LAST-MODIFIED:20211202T190337Z
UID:3447-1639125000-1639132200@wrap.org
SUMMARY:2021 WRAP Law Enforcement Awards and Holiday SoberRide® Campaign Kick-off
DESCRIPTION:
URL:https://wrap.org/event/2021-wrap-law-enforcement-awards-and-holiday-soberride%e2%93%a1-campaign-kick-off/
END:VEVENT
BEGIN:VEVENT
DTSTART;TZID=UTC:20211217T200000
DTEND;TZID=UTC:20220101T040000
DTSTAMP:20260424T122916
CREATED:20210707T171441Z
LAST-MODIFIED:20210719T225522Z
UID:3449-1639771200-1641009600@wrap.org
SUMMARY:2021 Holiday SoberRide® Campaign
DESCRIPTION:
URL:https://wrap.org/event/2021-holiday-soberride%e2%93%a1-campaign/
END:VEVENT
BEGIN:VEVENT
DTSTART;TZID=UTC:20220317T160000
DTEND;TZID=UTC:20220318T040000
DTSTAMP:20260424T122916
CREATED:20220303T204052Z
LAST-MODIFIED:20220303T204052Z
UID:3891-1647532800-1647576000@wrap.org
SUMMARY:2022 St. Patrick's Day SoberRide® Campaign
DESCRIPTION:
URL:https://wrap.org/event/2022-st-patricks-day-soberride-campaign/
END:VEVENT
BEGIN:VEVENT
DTSTART;TZID=UTC:20220418T080000
DTEND;TZID=UTC:20220418T170000
DTSTAMP:20260424T122916
CREATED:20220303T211503Z
LAST-MODIFIED:20220303T211503Z
UID:3896-1650268800-1650301200@wrap.org
SUMMARY:2022 Maryland Highway Safety Summit
DESCRIPTION:
URL:https://wrap.org/event/2022-maryland-highway-safety-summit/
END:VEVENT
BEGIN:VEVENT
DTSTART;TZID=UTC:20220503T080000
DTEND;TZID=UTC:20220505T170000
DTSTAMP:20260424T122916
CREATED:20220303T204440Z
LAST-MODIFIED:20220303T204440Z
UID:3898-1651564800-1651770000@wrap.org
SUMMARY:2022 Virginia Highway Safety Summit
DESCRIPTION:
URL:https://wrap.org/event/2022-virginia-highway-safety-summit/
END:VEVENT
BEGIN:VEVENT
DTSTART;TZID=UTC:20220505T160000
DTEND;TZID=UTC:20220506T040000
DTSTAMP:20260424T122916
CREATED:20220303T204148Z
LAST-MODIFIED:20220303T204148Z
UID:3894-1651766400-1651809600@wrap.org
SUMMARY:2022 Cinco De Mayo SoberRide® Campaign
DESCRIPTION:
URL:https://wrap.org/event/2022-cinco-de-mayo-soberride-campaign/
END:VEVENT
BEGIN:VEVENT
DTSTART;TZID=UTC:20220704T160000
DTEND;TZID=UTC:20220704T160000
DTSTAMP:20260424T122916
CREATED:20220303T211629Z
LAST-MODIFIED:20220303T211629Z
UID:3900-1656950400-1656950400@wrap.org
SUMMARY:2022 July 4th SoberRide® Campaign
DESCRIPTION:
URL:https://wrap.org/event/2022-july-4th-soberride-campaign/
END:VEVENT
BEGIN:VEVENT
DTSTART;TZID=UTC:20221021T113000
DTEND;TZID=UTC:20221021T140000
DTSTAMP:20260424T122916
CREATED:20220929T193224Z
LAST-MODIFIED:20221004T203439Z
UID:4033-1666351800-1666360800@wrap.org
SUMMARY:WRAP's 40th-Annual Meeting & WRAPPY Awards
DESCRIPTION:View the invitation here.
URL:https://wrap.org/event/wraps-40th-annual-meeting-wrappy-awards/
END:VEVENT
BEGIN:VEVENT
DTSTART;TZID=UTC:20221029T160000
DTEND;TZID=UTC:20221030T040000
DTSTAMP:20260424T122916
CREATED:20220929T193355Z
LAST-MODIFIED:20220929T193422Z
UID:4037-1667059200-1667102400@wrap.org
SUMMARY:WRAP's 2022 Halloween SoberRide Campaign
DESCRIPTION:
URL:https://wrap.org/event/wraps-2022-halloween-soberride-campaign/
END:VEVENT
BEGIN:VEVENT
DTSTART;VALUE=DATE:20221030
DTEND;VALUE=DATE:20221031
DTSTAMP:20260424T122916
CREATED:20220929T193549Z
LAST-MODIFIED:20220929T193549Z
UID:4039-1667088000-1667174399@wrap.org
SUMMARY:21st-annual Maryland Impaired Driving Enforcement Awards
DESCRIPTION:(WRAP serves as Project Director)
URL:https://wrap.org/event/21st-annual-maryland-impaired-driving-enforcement-awards/
LOCATION:Ocean City\, Maryland
END:VEVENT
BEGIN:VEVENT
DTSTART;TZID=UTC:20221121T160000
DTEND;TZID=UTC:20221121T173000
DTSTAMP:20260424T122916
CREATED:20220929T193821Z
LAST-MODIFIED:20220929T193821Z
UID:4045-1669046400-1669051800@wrap.org
SUMMARY:20th-annual "Maryland Remembers" ceremony
DESCRIPTION:(WRAP serves as Project Director)
URL:https://wrap.org/event/20th-annual-maryland-remembers-ceremony/
LOCATION:Annapolis\, Maryland
END:VEVENT
BEGIN:VEVENT
DTSTART;TZID=UTC:20221216T080000
DTEND;TZID=UTC:20221216T110000
DTSTAMP:20260424T122916
CREATED:20220929T194059Z
LAST-MODIFIED:20221115T153845Z
UID:4049-1671177600-1671188400@wrap.org
SUMMARY:WRAP's 25th-annual Law Enforcement Awards & Holiday Campaign Kick-Off
DESCRIPTION:  \n   \n  \n  \n  \n  \n  \n 
URL:https://wrap.org/event/wraps-25th-annual-law-enforcement-awards-holiday-campaign-kick-off/
END:VEVENT
BEGIN:VEVENT
DTSTART;TZID=UTC:20221216T220000
DTEND;TZID=UTC:20230101T040000
DTSTAMP:20260424T122916
CREATED:20220929T194216Z
LAST-MODIFIED:20220929T194216Z
UID:4051-1671228000-1672545600@wrap.org
SUMMARY:WRAP's 2022 Holiday SoberRide Campaign
DESCRIPTION:
URL:https://wrap.org/event/wraps-2022-holiday-soberride-campaign/
END:VEVENT
BEGIN:VEVENT
DTSTART;TZID=America/Halifax:20231020T113000
DTEND;TZID=America/Halifax:20231020T140000
DTSTAMP:20260424T122916
CREATED:20230925T135930Z
LAST-MODIFIED:20230925T140402Z
UID:4318-1697801400-1697810400@wrap.org
SUMMARY:WRAP's 41st-Annual Meeting & WRAPPY Awards
DESCRIPTION:View the invitation here.
URL:https://wrap.org/event/wraps-41st-annual-meeting-wrappy-awards/
END:VEVENT
BEGIN:VEVENT
DTSTART;TZID=America/Halifax:20231215T083000
DTEND;TZID=America/Halifax:20231215T113000
DTSTAMP:20260424T122916
CREATED:20231127T133415Z
LAST-MODIFIED:20231128T151157Z
UID:4365-1702629000-1702639800@wrap.org
SUMMARY:26th Annual Law Enforcement Awards & Holiday Campaign Kick-Off
DESCRIPTION:Law Enforcement Awards Invitation
URL:https://wrap.org/event/26th-annual-law-enforcement-awards-holiday-campaign-kick-off/
END:VEVENT
END:VCALENDAR