BEGIN:VCALENDAR
VERSION:2.0
PRODID:-//WRAP - ECPv6.15.20//NONSGML v1.0//EN
CALSCALE:GREGORIAN
METHOD:PUBLISH
X-WR-CALNAME:WRAP
X-ORIGINAL-URL:https://wrap.org
X-WR-CALDESC:Events for WRAP
REFRESH-INTERVAL;VALUE=DURATION:PT1H
X-Robots-Tag:noindex
X-PUBLISHED-TTL:PT1H
BEGIN:VTIMEZONE
TZID:UTC
BEGIN:STANDARD
TZOFFSETFROM:+0000
TZOFFSETTO:+0000
TZNAME:UTC
DTSTART:20180101T000000
END:STANDARD
END:VTIMEZONE
BEGIN:VEVENT
DTSTART;VALUE=DATE:20191220
DTEND;VALUE=DATE:20200102
DTSTAMP:20260421T162736
CREATED:20191205T211556Z
LAST-MODIFIED:20200415T221217Z
UID:2471-1576800000-1577923199@wrap.org
SUMMARY:2019 Holiday SoberRide Campaign
DESCRIPTION:December 20\, 2019 through January 1\, 2020\nThe program will be offered nightly in Lyft’s Washington\, DC coverage area between 10:00 pm until 4:00 am from December 20\, 2019 until January 1\, 2020. \nThe SoberRide code will be released at 9:00 pm on December 20\, December 27 and December 31 on www.SoberRide.com. \nFor further information\, please visit www.SoberRide.com \nMust be over 21 to use this service
URL:https://wrap.org/event/2019-holiday-soberride-campaign/
ATTACH;FMTTYPE=image/png:https://wrap.org/wp-content/uploads/2019/12/lyft_2.png
END:VEVENT
BEGIN:VEVENT
DTSTART;TZID=UTC:20191213T203000
DTEND;TZID=UTC:20191213T223000
DTSTAMP:20260421T162736
CREATED:20191205T195958Z
LAST-MODIFIED:20191205T195958Z
UID:2463-1576269000-1576276200@wrap.org
SUMMARY:2019 WRAP Law Enforcement Awards and Holiday SoberRide Campaign Kick-Off
DESCRIPTION:The Washington Regional Alcohol Program (WRAP)\nalong with the \nMetropolitan Police Department\nCordially Invite You to WRAP’s \n22nd Annual\n2019 Law Enforcement Awards & Holiday Campaign Kick-Off\nFriday\, December 13\, 2019\n8:30 am – 9:00 am Registration / Reception • 9:00 am – 10:30 am Kick-Off / Awards Ceremony \n\nFEATURED SPEAKER\nHonorable Brian J. Moran\nSecretary of Public Safety and Homeland\nSecurity Commonwealth of Virginia \n\n\nMASTER OF CEREMONIES\nMelissa Mollet\nTraffic Reporter\, NBC Washington \n\nFree Event • Continental Breakfast • Door Prizes \nEntry by RSVP only received no later than December 6th at either 703.893.0461 or wrap@wrap.org  \nLimited seating. Event details.
URL:https://wrap.org/event/2019-wrap-law-enforcement-awards-and-holiday-soberride-campaign-kick-off/
LOCATION:Maggiano’s Little Italy\, 2001 International Drive\, McLean\, Virginia\, 22102
ATTACH;FMTTYPE=image/png:https://wrap.org/wp-content/uploads/2019/12/xmas2.png
END:VEVENT
BEGIN:VEVENT
DTSTART;TZID=UTC:20190504T160000
DTEND;TZID=UTC:20190505T160000
DTSTAMP:20260421T162736
CREATED:20200415T205037Z
LAST-MODIFIED:20200430T023405Z
UID:2635-1556985600-1557072000@wrap.org
SUMMARY:WRAP’s 2019 Cinco de Mayo SoberRide® Campaign
DESCRIPTION:
URL:https://wrap.org/event/wraps-2019-cinco-de-mayo-soberride-campaign/
END:VEVENT
END:VCALENDAR