BEGIN:VCALENDAR
VERSION:2.0
PRODID:-//WRAP - ECPv6.15.20//NONSGML v1.0//EN
CALSCALE:GREGORIAN
METHOD:PUBLISH
X-ORIGINAL-URL:https://wrap.org
X-WR-CALDESC:Events for WRAP
REFRESH-INTERVAL;VALUE=DURATION:PT1H
X-Robots-Tag:noindex
X-PUBLISHED-TTL:PT1H
BEGIN:VTIMEZONE
TZID:America/Halifax
BEGIN:DAYLIGHT
TZOFFSETFROM:-0400
TZOFFSETTO:-0300
TZNAME:ADT
DTSTART:20240310T060000
END:DAYLIGHT
BEGIN:STANDARD
TZOFFSETFROM:-0300
TZOFFSETTO:-0400
TZNAME:AST
DTSTART:20241103T050000
END:STANDARD
BEGIN:DAYLIGHT
TZOFFSETFROM:-0400
TZOFFSETTO:-0300
TZNAME:ADT
DTSTART:20250309T060000
END:DAYLIGHT
BEGIN:STANDARD
TZOFFSETFROM:-0300
TZOFFSETTO:-0400
TZNAME:AST
DTSTART:20251102T050000
END:STANDARD
BEGIN:DAYLIGHT
TZOFFSETFROM:-0400
TZOFFSETTO:-0300
TZNAME:ADT
DTSTART:20260308T060000
END:DAYLIGHT
BEGIN:STANDARD
TZOFFSETFROM:-0300
TZOFFSETTO:-0400
TZNAME:AST
DTSTART:20261101T050000
END:STANDARD
END:VTIMEZONE
BEGIN:VEVENT
DTSTART;TZID=America/Halifax:20251212T083000
DTEND;TZID=America/Halifax:20251212T103000
DTSTAMP:20260421T175833
CREATED:20251112T150137Z
LAST-MODIFIED:20251113T181802Z
UID:4833-1765528200-1765535400@wrap.org
SUMMARY:WRAP's 28th Annual Law Enforcement Awards and Holiday SoberRide® Campaign Kick-Off
DESCRIPTION:See invitation here.
URL:https://wrap.org/event/wraps-28th-annual-law-enforcement-awards-and-holiday-soberride-campaign-kick-off/
LOCATION:Maggiano’s Little Italy\, 5333 Wisconsin Avenue\, NW\, Washington\, D.C.\, 20015
CATEGORIES:Holiday
END:VEVENT
END:VCALENDAR